BEGIN:VCALENDAR
VERSION:2.0
PRODID:icalendar-ruby
CALSCALE:GREGORIAN
METHOD:PUBLISH
BEGIN:VEVENT
DTSTAMP:20260423T113314Z
UID:9-1283962@worthingtonchristianchurch.com
DTSTART:20260724T180000Z
DTEND:20260724T200000Z
CLASS:PUBLIC
CREATED:20260422T210718
DESCRIPTION:
LAST-MODIFIED:20260422T210718
LOCATION:
SUMMARY:Food Shelf
URL;VALUE=URI:https://www.worthingtonchristianchurch.com/events/food-shelf/
 2026-07-24
ATTACH;FILENAME=Music and Technology Ministry (8).png;FMTTYPE=image/png:htt
 ps://dq5pwpg1q8ru0.cloudfront.net/2022/08/01/11/30/42/5cefc9f4-fe27-4aeb-b
 4be-cc9697ba4c89/Music%20and%20Technology%20Ministry%20(8).png
END:VEVENT
END:VCALENDAR
