BEGIN:VCALENDAR
VERSION:2.0
PRODID:icalendar-ruby
CALSCALE:GREGORIAN
METHOD:PUBLISH
BEGIN:VEVENT
DTSTAMP:20260420T043028Z
UID:12-1269379@worthingtonchristianchurch.com
DTSTART:20260716T180000Z
DTEND:20260716T220000Z
CLASS:PUBLIC
CREATED:20260419T214942
DESCRIPTION:Food Shelf
LAST-MODIFIED:20260419T214942
LOCATION:
SUMMARY:Food Shelf
URL;VALUE=URI:https://www.worthingtonchristianchurch.com/events/food-shelf-
 -12/2026-07-16
ATTACH;FILENAME=Music and Technology Ministry (8).png;FMTTYPE=image/png:htt
 ps://dq5pwpg1q8ru0.cloudfront.net/2022/08/01/11/37/45/0f1312dd-aa01-4ac7-8
 fe1-0ad94eefa8b5/Music%20and%20Technology%20Ministry%20(8).png
END:VEVENT
END:VCALENDAR
