BEGIN:VCALENDAR
VERSION:2.0
PRODID:icalendar-ruby
CALSCALE:GREGORIAN
METHOD:PUBLISH
BEGIN:VEVENT
DTSTAMP:20260422T160436Z
UID:191-1278071@worthingtonchristianchurch.com
DTSTART:20260426T163000Z
DTEND:20260426T180000Z
CLASS:PUBLIC
CREATED:20260421T153736
DESCRIPTION:
LAST-MODIFIED:20260421T153736
LOCATION:Fellowship Hall - Right after church service
SUMMARY:Fellowship Dinner
URL;VALUE=URI:https://www.worthingtonchristianchurch.com/events/fellowship-
 dinner--191/2026-04-26
ATTACH;FILENAME=Fellowship Dinner.jpg;FMTTYPE=image/jpeg:https://dq5pwpg1q8
 ru0.cloudfront.net/2026/04/21/20/37/36/2bcbffdb-33aa-47d0-8062-9fa994a9572
 d/Fellowship%20Dinner.jpg
END:VEVENT
END:VCALENDAR
